BEGIN:VCALENDAR
VERSION:2.0
PRODID:-//https://calvarybaptistyakima.org///NONSGML kigkonsult.se iCalcreator 2.10.15//
METHOD:PUBLISH
BEGIN:VEVENT
UID:20260424T053003UTC-3512aIVRMv@https://calvarybaptistyakima.org/
DTSTAMP:20260424T053003Z
DESCRIPTION: https://calvarybaptistyakima.org/calendar/event/1222-wednesday
 -evening-bible-study-prayer
DTSTART:20321111T030000Z
DTEND:20321111T043000Z
LOCATION:Calvary Baptist Church - Yakima (903 West Washington Avenue\, Yaki
 ma\, WA 98903)
SUMMARY:Wednesday Evening Bible Study & Prayer
URL:https://calvarybaptistyakima.org/calendar/event/1222-wednesday-evening-
 bible-study-prayer
END:VEVENT
END:VCALENDAR
