BEGIN:VCALENDAR
VERSION:2.0
PRODID:-//https://calvarybaptistyakima.org///NONSGML kigkonsult.se iCalcreator 2.10.15//
METHOD:PUBLISH
BEGIN:VEVENT
UID:20260424T052958UTC-2601buU5xa@https://calvarybaptistyakima.org/
DTSTAMP:20260424T052958Z
DESCRIPTION: https://calvarybaptistyakima.org/calendar/event/399-sunday-mor
 ning-worship-service-childrens-church
DTSTART:20321107T190000Z
DTEND:20321107T203000Z
LOCATION:Calvary Baptist Church - Yakima (903 West Washington Avenue\, Yaki
 ma\, WA 98903)
SUMMARY:Sunday Morning Worship Service & Children's Church
URL:https://calvarybaptistyakima.org/calendar/event/399-sunday-morning-wors
 hip-service-childrens-church
END:VEVENT
END:VCALENDAR
