BEGIN:VCALENDAR
VERSION:2.0
PRODID:-//https://calvarybaptistyakima.org///NONSGML kigkonsult.se iCalcreator 2.10.15//
METHOD:PUBLISH
BEGIN:VEVENT
UID:20260423T224833UTC-7594ZApmx3@https://calvarybaptistyakima.org/
DTSTAMP:20260423T224833Z
DESCRIPTION: https://calvarybaptistyakima.org/calendar/event/1206-wednesday
 -evening-bible-study-prayer
DTSTART:20320722T020000Z
DTEND:20320722T033000Z
LOCATION:Calvary Baptist Church - Yakima (903 West Washington Avenue\, Yaki
 ma\, WA 98903)
SUMMARY:Wednesday Evening Bible Study & Prayer
URL:https://calvarybaptistyakima.org/calendar/event/1206-wednesday-evening-
 bible-study-prayer
END:VEVENT
END:VCALENDAR
