BEGIN:VCALENDAR
VERSION:2.0
PRODID:-//https://calvarybaptistyakima.org///NONSGML kigkonsult.se iCalcreator 2.10.15//
METHOD:PUBLISH
BEGIN:VEVENT
UID:20260423T152323UTC-6977fa5eb4@https://calvarybaptistyakima.org/
DTSTAMP:20260423T152323Z
DESCRIPTION: https://calvarybaptistyakima.org/calendar/event/375-sunday-mor
 ning-worship-service-childrens-church
DTSTART:20320523T180000Z
DTEND:20320523T193000Z
LOCATION:Calvary Baptist Church - Yakima (903 West Washington Avenue\, Yaki
 ma\, WA 98903)
SUMMARY:Sunday Morning Worship Service & Children's Church
URL:https://calvarybaptistyakima.org/calendar/event/375-sunday-morning-wors
 hip-service-childrens-church
END:VEVENT
END:VCALENDAR
